BEGIN:VCALENDAR
VERSION:2.0
PRODID:-//rcdop.org//eCatholic//EN
X-WR-TIMEZONE:LocalTZ
BEGIN:VTIMEZONE
TZID:LocalTZ
X-LIC-LOCATION:LocalTZ
BEGIN:DAYLIGHT
TZOFFSETFROM:-0500
TZOFFSETTO:-0400
TZNAME:LocalTZ
DTSTART:19700308T020000
RRULE:FREQ=YEARLY;BYMONTH=3;BYDAY=2SU
END:DAYLIGHT
BEGIN:STANDARD
TZOFFSETFROM:-0400
TZOFFSETTO:-0500
TZNAME:LocalTZ
DTSTART:19701101T020000
RRULE:FREQ=YEARLY;BYMONTH=11;BYDAY=1SU
END:STANDARD
END:VTIMEZONE
BEGIN:VEVENT
UID:3053363@rcdop.org
DTSTAMP:20260423T234931Z
DTSTART;VALUE=DATE:20260426
DTEND;VALUE=DATE:20260427
RRULE:FREQ=WEEKLY;BYDAY=SU
SUMMARY:Vocations for Men
DESCRIPTION:<a href="https://patersonvocations.org/" data-pasted="true" ta
 rget="_blank" rel="noopener noreferrer">Events for Men</a>\n
END:VEVENT
END:VCALENDAR
